BEGIN:VCALENDAR
VERSION:2.0
PRODID:-//Letra｜レトラ公式通販 - ECPv6.0.9//NONSGML v1.0//EN
CALSCALE:GREGORIAN
METHOD:PUBLISH
X-ORIGINAL-URL:https://www.letratokyo.jp
X-WR-CALDESC:Letra｜レトラ公式通販 のイベント
REFRESH-INTERVAL;VALUE=DURATION:PT1H
X-Robots-Tag:noindex
X-PUBLISHED-TTL:PT1H
BEGIN:VTIMEZONE
TZID:Asia/Tokyo
BEGIN:STANDARD
TZOFFSETFROM:+0900
TZOFFSETTO:+0900
TZNAME:JST
DTSTART:20260101T000000
END:STANDARD
END:VTIMEZONE
BEGIN:VEVENT
DTSTART;VALUE=DATE:20260312
DTEND;VALUE=DATE:20260324
DTSTAMP:20260423T072335
CREATED:20260223T231911Z
LAST-MODIFIED:20260313T024807Z
UID:28833-1773273600-1774310399@www.letratokyo.jp
SUMMARY:浦和パルコ 1F
DESCRIPTION:※最終日は18時までの営業となります。予めご了承ください。
URL:https://www.letratokyo.jp/event/%e6%b5%a6%e5%92%8c%e3%83%91%e3%83%ab%e3%82%b3-1f/
LOCATION:浦和パルコ\, 埼玉県さいたま市浦和区東高砂町１１−１\, 〒330-0055
CATEGORIES:POPUP
ATTACH;FMTTYPE=image/jpeg:https://www.letratokyo.jp/wp-content/uploads/2026/02/saiji2026_2_urawa.jpg
END:VEVENT
BEGIN:VEVENT
DTSTART;VALUE=DATE:20260324
DTEND;VALUE=DATE:20260601
DTSTAMP:20260423T072335
CREATED:20260223T232004Z
LAST-MODIFIED:20260326T233518Z
UID:28836-1774310400-1780271999@www.letratokyo.jp
SUMMARY:名古屋ラシック B1F
DESCRIPTION:
URL:https://www.letratokyo.jp/event/%e5%90%8d%e5%8f%a4%e5%b1%8b%e3%83%a9%e3%82%b7%e3%83%83%e3%82%af-b1f/
LOCATION:名古屋ラシック\, 愛知県名古屋市中区栄３丁目６−１
CATEGORIES:POPUP
ATTACH;FMTTYPE=image/jpeg:https://www.letratokyo.jp/wp-content/uploads/2026/03/saiji2026_3_lachic.jpeg
END:VEVENT
BEGIN:VEVENT
DTSTART;VALUE=DATE:20260327
DTEND;VALUE=DATE:20260410
DTSTAMP:20260423T072335
CREATED:20260328T091204Z
LAST-MODIFIED:20260328T091607Z
UID:29623-1774569600-1775779199@www.letratokyo.jp
SUMMARY:ルクアイーレ 4F
DESCRIPTION:
URL:https://www.letratokyo.jp/event/%e3%83%ab%e3%82%af%e3%82%a2%e3%82%a4%e3%83%bc%e3%83%ac/
LOCATION:大阪ルクアイーレ\, 大阪市北区梅田3-1-3\, 大阪府\, 530-8558\, 日本
CATEGORIES:POPUP
ATTACH;FMTTYPE=image/jpeg:https://www.letratokyo.jp/wp-content/uploads/2026/03/saiji2026_4_lucua1100.jpeg
END:VEVENT
BEGIN:VEVENT
DTSTART;VALUE=DATE:20260331
DTEND;VALUE=DATE:20260511
DTSTAMP:20260423T072335
CREATED:20260328T091502Z
LAST-MODIFIED:20260328T091534Z
UID:29626-1774915200-1778457599@www.letratokyo.jp
SUMMARY:そごう広島  1F
DESCRIPTION:
URL:https://www.letratokyo.jp/event/%e3%81%9d%e3%81%94%e3%81%86%e5%ba%83%e5%b3%b6/
LOCATION:岩手県
CATEGORIES:POPUP
ATTACH;FMTTYPE=image/jpeg:https://www.letratokyo.jp/wp-content/uploads/2026/03/saiji2026_5_hiroshima_B.jpeg
END:VEVENT
BEGIN:VEVENT
DTSTART;VALUE=DATE:20260401
DTEND;VALUE=DATE:20260901
DTSTAMP:20260423T072335
CREATED:20260421T054620Z
LAST-MODIFIED:20260421T054620Z
UID:30024-1775001600-1788220799@www.letratokyo.jp
SUMMARY:ルミネ北千住
DESCRIPTION:
URL:https://www.letratokyo.jp/event/%e3%83%ab%e3%83%9f%e3%83%8d%e5%8c%97%e5%8d%83%e4%bd%8f/
LOCATION:ルミネ北千住\, 東京都足立区千住旭町４２−２\, 120-0026
CATEGORIES:POPUP
ATTACH;FMTTYPE=image/jpeg:https://www.letratokyo.jp/wp-content/uploads/2026/04/saiji2026_7_kitasenjyu.jpg
END:VEVENT
BEGIN:VEVENT
DTSTART;VALUE=DATE:20260422
DTEND;VALUE=DATE:20260506
DTSTAMP:20260423T072335
CREATED:20260421T054817Z
LAST-MODIFIED:20260422T014755Z
UID:30029-1776816000-1778025599@www.letratokyo.jp
SUMMARY:仙台三越
DESCRIPTION:
URL:https://www.letratokyo.jp/event/%e4%bb%99%e5%8f%b0%e4%b8%89%e8%b6%8a-3/
LOCATION:仙台三越\, ４丁目８−１５\, 仙台市青葉区一番町\, 宮城県\, 980-8543\, 日本
CATEGORIES:POPUP
ATTACH;FMTTYPE=image/jpeg:https://www.letratokyo.jp/wp-content/uploads/2026/04/saiji2026_10_sendai_mithukoshi.jpg
END:VEVENT
BEGIN:VEVENT
DTSTART;VALUE=DATE:20260422
DTEND;VALUE=DATE:20260506
DTSTAMP:20260423T072335
CREATED:20260421T054922Z
LAST-MODIFIED:20260422T013832Z
UID:30031-1776816000-1778025599@www.letratokyo.jp
SUMMARY:大丸東京店
DESCRIPTION:
URL:https://www.letratokyo.jp/event/%e5%a4%a7%e4%b8%b8%e6%9d%b1%e4%ba%ac%e5%ba%97/
LOCATION:大丸東京店\, 東京都千代田区丸の内１丁目９−１\, 100-6701
CATEGORIES:POPUP
ATTACH;FMTTYPE=image/jpeg:https://www.letratokyo.jp/wp-content/uploads/2026/04/saiji2026_11_daimaru_tokyo.jpg
END:VEVENT
BEGIN:VEVENT
DTSTART;VALUE=DATE:20260422
DTEND;VALUE=DATE:20260428
DTSTAMP:20260423T072335
CREATED:20260421T054717Z
LAST-MODIFIED:20260421T054731Z
UID:30027-1776816000-1777334399@www.letratokyo.jp
SUMMARY:阪急うめだ本店
DESCRIPTION:
URL:https://www.letratokyo.jp/event/%e9%98%aa%e6%80%a5%e3%81%86%e3%82%81%e3%81%a0%e6%9c%ac%e5%ba%97/
LOCATION:阪急うめだ本店\, ８−７ 婦人靴売場 4F\, 大阪市北区角田町\, 大阪府\, 530-8350\, 日本
CATEGORIES:POPUP
ATTACH;FMTTYPE=image/jpeg:https://www.letratokyo.jp/wp-content/uploads/2026/04/saiji2026_9_hankyu_umeda.jpg
END:VEVENT
BEGIN:VEVENT
DTSTART;VALUE=DATE:20260429
DTEND;VALUE=DATE:20260513
DTSTAMP:20260423T072335
CREATED:20260421T055128Z
LAST-MODIFIED:20260421T055128Z
UID:30034-1777420800-1778630399@www.letratokyo.jp
SUMMARY:あべのハルカス近鉄本店 ウイング館
DESCRIPTION:
URL:https://www.letratokyo.jp/event/%e3%81%82%e3%81%b9%e3%81%ae%e3%83%8f%e3%83%ab%e3%82%ab%e3%82%b9%e8%bf%91%e9%89%84%e6%9c%ac%e5%ba%97-%e3%82%a6%e3%82%a4%e3%83%b3%e3%82%b0%e9%a4%a8/
LOCATION:あべのハルカス近鉄本店\, 大阪府大阪市阿倍野区阿倍野筋１丁目１−４３\, 545-8545
CATEGORIES:POPUP
ATTACH;FMTTYPE=image/jpeg:https://www.letratokyo.jp/wp-content/uploads/2026/04/saiji2026_12_abeno_harukasu.jpg
END:VEVENT
BEGIN:VEVENT
DTSTART;VALUE=DATE:20260429
DTEND;VALUE=DATE:20260513
DTSTAMP:20260423T072335
CREATED:20260421T055240Z
LAST-MODIFIED:20260421T055245Z
UID:30037-1777420800-1778630399@www.letratokyo.jp
SUMMARY:阪急西宮ガーデンズ
DESCRIPTION:
URL:https://www.letratokyo.jp/event/%e9%98%aa%e6%80%a5%e8%a5%bf%e5%ae%ae%e3%82%ac%e3%83%bc%e3%83%87%e3%83%b3%e3%82%ba/
LOCATION:阪急西宮ガーデンズ\, 兵庫県西宮市高松町１４−２\, 〒663-8204
CATEGORIES:POPUP
ATTACH;FMTTYPE=image/jpeg:https://www.letratokyo.jp/wp-content/uploads/2026/04/saiji2026_13_hankyu_nishinomiyagarden.jpg
END:VEVENT
BEGIN:VEVENT
DTSTART;VALUE=DATE:20260429
DTEND;VALUE=DATE:20260513
DTSTAMP:20260423T072335
CREATED:20260421T055330Z
LAST-MODIFIED:20260421T055444Z
UID:30041-1777420800-1778630399@www.letratokyo.jp
SUMMARY:新宿高島屋
DESCRIPTION:
URL:https://www.letratokyo.jp/event/%e6%96%b0%e5%ae%bf%e9%ab%98%e5%b3%b6%e5%b1%8b/
LOCATION:新宿高島屋\, 東京都渋谷区千駄ヶ谷5丁目24番2号
CATEGORIES:POPUP
ATTACH;FMTTYPE=image/jpeg:https://www.letratokyo.jp/wp-content/uploads/2026/04/saiji2026_14_shinjyuku_takashimaya.jpg
END:VEVENT
BEGIN:VEVENT
DTSTART;VALUE=DATE:20260429
DTEND;VALUE=DATE:20260513
DTSTAMP:20260423T072335
CREATED:20260421T055421Z
LAST-MODIFIED:20260421T055421Z
UID:30043-1777420800-1778630399@www.letratokyo.jp
SUMMARY:静岡伊勢丹
DESCRIPTION:
URL:https://www.letratokyo.jp/event/%e9%9d%99%e5%b2%a1%e4%bc%8a%e5%8b%a2%e4%b8%b9/
LOCATION:静岡伊勢丹 1F\, １丁目７\, 静岡市葵区呉服町\, 静岡県\, 420-0031\, 日本
CATEGORIES:POPUP
ATTACH;FMTTYPE=image/jpeg:https://www.letratokyo.jp/wp-content/uploads/2026/04/saiji2026_15_shizuoka_isetan.jpg
END:VEVENT
BEGIN:VEVENT
DTSTART;VALUE=DATE:20260513
DTEND;VALUE=DATE:20260528
DTSTAMP:20260423T072335
CREATED:20260421T055642Z
LAST-MODIFIED:20260421T055642Z
UID:30045-1778630400-1779926399@www.letratokyo.jp
SUMMARY:天王寺ミオ プラザ館
DESCRIPTION:
URL:https://www.letratokyo.jp/event/%e5%a4%a9%e7%8e%8b%e5%af%ba%e3%83%9f%e3%82%aa-%e3%83%97%e3%83%a9%e3%82%b6%e9%a4%a8/
LOCATION:天王寺ミオ\, 大阪府大阪市天王寺区悲田院町１０\, 543-0055
CATEGORIES:POPUP
ATTACH;FMTTYPE=image/jpeg:https://www.letratokyo.jp/wp-content/uploads/2026/04/saiji2026_16_tennoji_mio.jpg
END:VEVENT
BEGIN:VEVENT
DTSTART;VALUE=DATE:20260513
DTEND;VALUE=DATE:20260520
DTSTAMP:20260423T072335
CREATED:20260421T060444Z
LAST-MODIFIED:20260421T060956Z
UID:30051-1778630400-1779235199@www.letratokyo.jp
SUMMARY:伊勢丹浦和店
DESCRIPTION:
URL:https://www.letratokyo.jp/event/%e4%bc%8a%e5%8b%a2%e4%b8%b9%e6%b5%a6%e5%92%8c%e5%ba%97/
LOCATION:伊勢丹浦和店\, 埼玉県さいたま市浦和区高砂１丁目１５−１
CATEGORIES:POPUP
ATTACH;FMTTYPE=image/jpeg:https://www.letratokyo.jp/wp-content/uploads/2026/04/saiji2026_18_isetan_urawa.jpg
END:VEVENT
BEGIN:VEVENT
DTSTART;VALUE=DATE:20260513
DTEND;VALUE=DATE:20260527
DTSTAMP:20260423T072335
CREATED:20260421T060259Z
LAST-MODIFIED:20260421T060343Z
UID:30048-1778630400-1779839999@www.letratokyo.jp
SUMMARY:岩田屋久留米店
DESCRIPTION:
URL:https://www.letratokyo.jp/event/%e5%b2%a9%e7%94%b0%e5%b1%8b%e4%b9%85%e7%95%99%e7%b1%b3%e5%ba%97/
LOCATION:岩田屋久留米店\, 福岡県久留米市天神町１−１\, 830-0033
CATEGORIES:POPUP
ATTACH;FMTTYPE=image/jpeg:https://www.letratokyo.jp/wp-content/uploads/2026/04/saiji2026_17_iwataya_kurume.jpg
END:VEVENT
BEGIN:VEVENT
DTSTART;VALUE=DATE:20260520
DTEND;VALUE=DATE:20260603
DTSTAMP:20260423T072335
CREATED:20260421T061210Z
LAST-MODIFIED:20260421T061429Z
UID:30053-1779235200-1780444799@www.letratokyo.jp
SUMMARY:神戸阪急本館
DESCRIPTION:
URL:https://www.letratokyo.jp/event/%e7%a5%9e%e6%88%b8%e9%98%aa%e6%80%a5%e6%9c%ac%e9%a4%a8/
LOCATION:神戸阪急本館\, 兵庫県神戸市中央区小野柄通８丁目１−８\, 651-8511
CATEGORIES:POPUP
ATTACH;FMTTYPE=image/jpeg:https://www.letratokyo.jp/wp-content/uploads/2026/04/saiji2026_19_kobehankyu_honkan.jpg
END:VEVENT
BEGIN:VEVENT
DTSTART;VALUE=DATE:20260520
DTEND;VALUE=DATE:20260603
DTSTAMP:20260423T072335
CREATED:20260421T061320Z
LAST-MODIFIED:20260421T061450Z
UID:30056-1779235200-1780444799@www.letratokyo.jp
SUMMARY:天満屋岡山本店
DESCRIPTION:
URL:https://www.letratokyo.jp/event/%e5%a4%a9%e6%ba%80%e5%b1%8b%e5%b2%a1%e5%b1%b1%e6%9c%ac%e5%ba%97/
LOCATION:天満屋岡山本店\, 岡山県岡山市北区表町２丁目１−１\, 700-8625
CATEGORIES:POPUP
ATTACH;FMTTYPE=image/jpeg:https://www.letratokyo.jp/wp-content/uploads/2026/04/saiji2026_20_tenmaya_okayama.jpg
END:VEVENT
BEGIN:VEVENT
DTSTART;VALUE=DATE:20260527
DTEND;VALUE=DATE:20260603
DTSTAMP:20260423T072335
CREATED:20260421T061404Z
LAST-MODIFIED:20260421T061404Z
UID:30059-1779840000-1780444799@www.letratokyo.jp
SUMMARY:千里阪急
DESCRIPTION:
URL:https://www.letratokyo.jp/event/%e5%8d%83%e9%87%8c%e9%98%aa%e6%80%a5/
LOCATION:千里阪急\, 大阪府豊中市新千里東町1丁目5番1号
CATEGORIES:POPUP
ATTACH;FMTTYPE=image/jpeg:https://www.letratokyo.jp/wp-content/uploads/2026/04/saiji2026_21_senrihankyu.jpg
END:VEVENT
BEGIN:VEVENT
DTSTART;VALUE=DATE:20260527
DTEND;VALUE=DATE:20260610
DTSTAMP:20260423T072335
CREATED:20260421T061553Z
LAST-MODIFIED:20260421T061553Z
UID:30061-1779840000-1781049599@www.letratokyo.jp
SUMMARY:横浜高島屋
DESCRIPTION:
URL:https://www.letratokyo.jp/event/%e6%a8%aa%e6%b5%9c%e9%ab%98%e5%b3%b6%e5%b1%8b-2/
LOCATION:横浜高島屋\, 神奈川県横浜市西区南幸１丁目６−３１
CATEGORIES:POPUP
ATTACH;FMTTYPE=image/jpeg:https://www.letratokyo.jp/wp-content/uploads/2026/04/saiji2026_22_yokohama_takashimaya.jpg
END:VEVENT
BEGIN:VEVENT
DTSTART;VALUE=DATE:20260528
DTEND;VALUE=DATE:20260604
DTSTAMP:20260423T072335
CREATED:20260421T061625Z
LAST-MODIFIED:20260421T061625Z
UID:30063-1779926400-1780531199@www.letratokyo.jp
SUMMARY:渋谷スクランブルスクエア
DESCRIPTION:
URL:https://www.letratokyo.jp/event/%e6%b8%8b%e8%b0%b7%e3%82%b9%e3%82%af%e3%83%a9%e3%83%b3%e3%83%96%e3%83%ab%e3%82%b9%e3%82%af%e3%82%a8%e3%82%a2/
LOCATION:渋谷スクランブルスクエア\, 東京都渋谷区渋谷二丁目24番12号
CATEGORIES:POPUP
ATTACH;FMTTYPE=image/jpeg:https://www.letratokyo.jp/wp-content/uploads/2026/04/saiji2026_23_shibuya_SS.jpg
END:VEVENT
END:VCALENDAR