BEGIN:VCALENDAR
VERSION:2.0
PRODID:-//Letra｜レトラ公式通販 - ECPv6.0.9//NONSGML v1.0//EN
CALSCALE:GREGORIAN
METHOD:PUBLISH
X-ORIGINAL-URL:https://www.letratokyo.jp
X-WR-CALDESC:Letra｜レトラ公式通販 のイベント
REFRESH-INTERVAL;VALUE=DURATION:PT1H
X-Robots-Tag:noindex
X-PUBLISHED-TTL:PT1H
BEGIN:VTIMEZONE
TZID:Asia/Tokyo
BEGIN:STANDARD
TZOFFSETFROM:+0900
TZOFFSETTO:+0900
TZNAME:JST
DTSTART:20260101T000000
END:STANDARD
END:VTIMEZONE
BEGIN:VEVENT
DTSTART;VALUE=DATE:20260528
DTEND;VALUE=DATE:20260604
DTSTAMP:20260423T072334
CREATED:20260421T061625Z
LAST-MODIFIED:20260421T061625Z
UID:30063-1779926400-1780531199@www.letratokyo.jp
SUMMARY:渋谷スクランブルスクエア
DESCRIPTION:
URL:https://www.letratokyo.jp/event/%e6%b8%8b%e8%b0%b7%e3%82%b9%e3%82%af%e3%83%a9%e3%83%b3%e3%83%96%e3%83%ab%e3%82%b9%e3%82%af%e3%82%a8%e3%82%a2/
LOCATION:渋谷スクランブルスクエア\, 東京都渋谷区渋谷二丁目24番12号
CATEGORIES:POPUP
ATTACH;FMTTYPE=image/jpeg:https://www.letratokyo.jp/wp-content/uploads/2026/04/saiji2026_23_shibuya_SS.jpg
END:VEVENT
END:VCALENDAR