BEGIN:VCALENDAR
VERSION:2.0
PRODID:-//Letra｜レトラ公式通販 - ECPv6.0.9//NONSGML v1.0//EN
CALSCALE:GREGORIAN
METHOD:PUBLISH
X-WR-CALNAME:Letra｜レトラ公式通販
X-ORIGINAL-URL:https://www.letratokyo.jp
X-WR-CALDESC:Letra｜レトラ公式通販 のイベント
REFRESH-INTERVAL;VALUE=DURATION:PT1H
X-Robots-Tag:noindex
X-PUBLISHED-TTL:PT1H
BEGIN:VTIMEZONE
TZID:Asia/Tokyo
BEGIN:STANDARD
TZOFFSETFROM:+0900
TZOFFSETTO:+0900
TZNAME:JST
DTSTART:20230101T000000
END:STANDARD
END:VTIMEZONE
BEGIN:VEVENT
DTSTART;VALUE=DATE:20230719
DTEND;VALUE=DATE:20230726
DTSTAMP:20260422T050831
CREATED:20230716T005728Z
LAST-MODIFIED:20230718T070649Z
UID:8730-1689724800-1690329599@www.letratokyo.jp
SUMMARY:岩田屋本店
DESCRIPTION:夏を楽しむために必要なものは健康とメルカドバッグだけ！と言うとかなり過言ですが、 \nそれぐらいメルカドバッグを持って出かけると、楽しい気分になるのは私だけではないはずです。 \nそれは、生産国であるメキシコの自由闊達な空気が、メルカドバッグを持つこの手を通じて \n全身に流れ入ってくるからではないでしょうか。 \n  \nメキシコの文化や人々の営みが生み出した素敵なバッグたち。 \nぜひ多くの方にご覧頂きたいと思います。
URL:https://www.letratokyo.jp/event/iwataya_honten/
LOCATION:岩田屋本店\, 2丁目5番35号\, 福岡市中央区天神\, 福岡県\, 810-8680\, 日本
CATEGORIES:POPUP
END:VEVENT
BEGIN:VEVENT
DTSTART;VALUE=DATE:20230719
DTEND;VALUE=DATE:20230802
DTSTAMP:20260422T050831
CREATED:20230716T005836Z
LAST-MODIFIED:20230718T070631Z
UID:8727-1689724800-1690934399@www.letratokyo.jp
SUMMARY:札幌大丸
DESCRIPTION:北海道の夏にも、Letraのメルカドバッグをお届けにまいりました♪ \n天気予報では雨の日もちらほらあるようですが、 \nどんな天気でも気にせず使えるのがメルカドバッグの良いところ。 \n雨に濡れても平気ですし、頑丈なつくりでどんなシーンにも持ち出せます。 \n家でお休みをされている時には、お部屋のインテリアにもなります。 \n皆さんがどこにいても、何をしていても、傍でお役に立てるバッグです。
URL:https://www.letratokyo.jp/event/sapporo_daimaru/
LOCATION:札幌大丸\, ４丁目７\, 札幌市中央区北５条西\, 北海道\, 060-0005\, 日本
CATEGORIES:POPUP
END:VEVENT
BEGIN:VEVENT
DTSTART;VALUE=DATE:20230719
DTEND;VALUE=DATE:20230726
DTSTAMP:20260422T050831
CREATED:20230716T005926Z
LAST-MODIFIED:20230718T070617Z
UID:8725-1689724800-1690329599@www.letratokyo.jp
SUMMARY:髙島屋 横浜店
DESCRIPTION:毎年恒例♪横浜高島屋でのイベントも始まります！ \n今のところ、7月から8月に予定されている横浜駅近くでの大きなイベントは、今回が最後になります。 \nこれからが夏本番。皆さんの真夏のコーディネートに合うバッグを、ぜひ探しにいらしてください。
URL:https://www.letratokyo.jp/event/takashimayayokohama/
LOCATION:高島屋 横浜店\, 横浜市西区南幸1丁目6番31号
CATEGORIES:POPUP
END:VEVENT
BEGIN:VEVENT
DTSTART;VALUE=DATE:20230720
DTEND;VALUE=DATE:20230727
DTSTAMP:20260422T050831
CREATED:20230716T005325Z
LAST-MODIFIED:20230720T012937Z
UID:8733-1689811200-1690415999@www.letratokyo.jp
SUMMARY:京王百貨店 聖蹟桜ヶ丘店　2F
DESCRIPTION:今度の都内でのポップアップは、多摩市の聖蹟桜ヶ丘にある京王百貨店で行います。 \nこの町は、とある映画の舞台のモデルになったことで有名で、自然も多く残されている大変雰囲気の良い町です。 \n一週間という少し短めの会期ですが、一点ものも多数用意していますので、よろしければぜひ遊びにいらしてください♪
URL:https://www.letratokyo.jp/event/keio_seiseki/
LOCATION:京王百貨店 聖蹟桜ヶ丘店\, 東京都多摩市関戸１丁目10−１
CATEGORIES:POPUP
END:VEVENT
BEGIN:VEVENT
DTSTART;VALUE=DATE:20230720
DTEND;VALUE=DATE:20230725
DTSTAMP:20260422T050831
CREATED:20230716T005636Z
LAST-MODIFIED:20230718T070759Z
UID:8827-1689811200-1690243199@www.letratokyo.jp
SUMMARY:名古屋タカシマヤ　10F（ゆかたフェスティバル内）
DESCRIPTION:今年の夏は、各地おで祭りなどの伝統行事が盛り上がっていますね♪浴衣を着て街を歩く人の姿も、今年はよく見かける気がします。 \n名古屋でのポップアップは、浴衣のイベント内での出店です。和装に似合うデザインはもちろん、普段使いして頂けるものもたくさんご用意していますよ☀
URL:https://www.letratokyo.jp/event/nagoya_takashimaya/
LOCATION:名古屋タカシマヤ\, １丁目１−４\, 名古屋市中村区名駅\, 愛知県\, 450-6001\, 日本
CATEGORIES:POPUP
END:VEVENT
BEGIN:VEVENT
DTSTART;VALUE=DATE:20230726
DTEND;VALUE=DATE:20230802
DTSTAMP:20260422T050831
CREATED:20230721T090410Z
LAST-MODIFIED:20230807T005406Z
UID:8736-1690329600-1690934399@www.letratokyo.jp
SUMMARY:井筒屋　本店　新館１F
DESCRIPTION:小倉にある井筒屋さんでは初めてのPOP UPです♪ \nLetraのバッグを既にご存知の方も、そうで無い方にも楽しんでいただける \n豊富なラインナップで皆さんのご来店をお待ちしています。 \n色とりどりのメルカドバックを是非ご堪能ください。
URL:https://www.letratokyo.jp/event/izutsuya/
LOCATION:井筒屋\, 1-1\, 北九州市小倉北区船場町\, 福岡県\, 802-8511\, 日本
CATEGORIES:POPUP
END:VEVENT
BEGIN:VEVENT
DTSTART;VALUE=DATE:20230726
DTEND;VALUE=DATE:20230802
DTSTAMP:20260422T050831
CREATED:20230721T090759Z
LAST-MODIFIED:20230721T090851Z
UID:8949-1690329600-1690934399@www.letratokyo.jp
SUMMARY:大丸　福岡天神店　東館３F
DESCRIPTION:小倉の井筒屋さんと同じく、7月26日㈬から博多の大丸さんでもPOP UPを行います♪こちらも初めての出店です。多くのお客様にご来店頂ける事を期待して、バッグのストックもたくさんご用意しています。1週間でやや短い日程での開催となりますので、どうかお見逃しなく！
URL:https://www.letratokyo.jp/event/daimaru_fukuoka/
LOCATION:大丸　福岡天神店\, １丁目４−１\, 福岡市中央区天神\, 福岡県\, 810-8717\, 日本
CATEGORIES:POPUP
END:VEVENT
BEGIN:VEVENT
DTSTART;VALUE=DATE:20230809
DTEND;VALUE=DATE:20230815
DTSTAMP:20260422T050831
CREATED:20230721T090513Z
LAST-MODIFIED:20230814T055627Z
UID:8739-1691539200-1692057599@www.letratokyo.jp
SUMMARY:大丸神戸店
DESCRIPTION:※大丸神戸店POP UP SHOPは、8月14日（月）をもちまして台風7号の影響により終了させていただきます。 \nお客さまには大変ご迷惑をお掛けいたしますが、何とぞご了承いただきますようお願い申し上げます。 \n 
URL:https://www.letratokyo.jp/event/daimaru_kobe/
LOCATION:大丸神戸店\, 兵庫県神戸市中央区明石町４０\, 650-0037\, 日本
CATEGORIES:POPUP
END:VEVENT
BEGIN:VEVENT
DTSTART;VALUE=DATE:20230815
DTEND;VALUE=DATE:20230829
DTSTAMP:20260422T050831
CREATED:20230814T003122Z
LAST-MODIFIED:20230814T003122Z
UID:9199-1692057600-1693267199@www.letratokyo.jp
SUMMARY:そごう横浜店　B1
DESCRIPTION:
URL:https://www.letratokyo.jp/event/sogo_yokohama/
LOCATION:そごう横浜店\, 神奈川県西区高島2丁目18-1
CATEGORIES:POPUP
END:VEVENT
BEGIN:VEVENT
DTSTART;VALUE=DATE:20230830
DTEND;VALUE=DATE:20230912
DTSTAMP:20260422T050831
CREATED:20230828T005416Z
LAST-MODIFIED:20230828T005420Z
UID:10260-1693353600-1694476799@www.letratokyo.jp
SUMMARY:鶴屋　東館地下１階
DESCRIPTION:
URL:https://www.letratokyo.jp/event/tsuruya/
LOCATION:鶴屋\, 中央区手取本町６−\, 熊本市\, 熊本県\, 860-8586\, 日本
CATEGORIES:POPUP
END:VEVENT
BEGIN:VEVENT
DTSTART;VALUE=DATE:20230831
DTEND;VALUE=DATE:20230914
DTSTAMP:20260422T050831
CREATED:20230830T005335Z
LAST-MODIFIED:20230830T061320Z
UID:9140-1693440000-1694649599@www.letratokyo.jp
SUMMARY:横浜ベイクオーター 3F
DESCRIPTION:
URL:https://www.letratokyo.jp/event/yokohama_b/
LOCATION:横浜ベイクォーター
CATEGORIES:POPUP
END:VEVENT
BEGIN:VEVENT
DTSTART;VALUE=DATE:20230906
DTEND;VALUE=DATE:20230912
DTSTAMP:20260422T050831
CREATED:20230830T054717Z
LAST-MODIFIED:20230830T054717Z
UID:10454-1693958400-1694476799@www.letratokyo.jp
SUMMARY:山形屋（鹿児島）6F
DESCRIPTION:
URL:https://www.letratokyo.jp/event/yamagataya/
LOCATION:山形屋（鹿児島）\, 金生町3番1号\, 鹿児島市\, 鹿児島県\, 892-8601\, 日本
CATEGORIES:POPUP
END:VEVENT
BEGIN:VEVENT
DTSTART;VALUE=DATE:20230907
DTEND;VALUE=DATE:20230914
DTSTAMP:20260422T050831
CREATED:20230830T054938Z
LAST-MODIFIED:20230906T002531Z
UID:10458-1694044800-1694649599@www.letratokyo.jp
SUMMARY:ルミネ大宮 LUMINE2 3階
DESCRIPTION:
URL:https://www.letratokyo.jp/event/lumine_omiya/
LOCATION:ルミネ大宮\, 大宮区錦町６３０\, さいたま市\, 埼玉県\, 330-0853\, 日本
CATEGORIES:POPUP
END:VEVENT
BEGIN:VEVENT
DTSTART;VALUE=DATE:20230913
DTEND;VALUE=DATE:20230919
DTSTAMP:20260422T050831
CREATED:20230911T090715Z
LAST-MODIFIED:20230911T090715Z
UID:10711-1694563200-1695081599@www.letratokyo.jp
SUMMARY:山形屋（宮崎）５F
DESCRIPTION:
URL:https://www.letratokyo.jp/event/yamagataya_miyazaki/
LOCATION:山形屋（宮崎）\, 橘通東３丁目４−１２\, 宮崎市\, 宮崎県\, 880-0805\, 日本
CATEGORIES:POPUP
END:VEVENT
BEGIN:VEVENT
DTSTART;VALUE=DATE:20230914
DTEND;VALUE=DATE:20230928
DTSTAMP:20260422T050831
CREATED:20230911T090918Z
LAST-MODIFIED:20230911T090918Z
UID:10715-1694649600-1695859199@www.letratokyo.jp
SUMMARY:東急百貨店　たまプラーザ店　1F
DESCRIPTION:
URL:https://www.letratokyo.jp/event/tokyu_tamapura/
LOCATION:東急百貨店　たまプラーザ店\, 青葉区美しが丘１丁目７\, 横浜市\, 神奈川県\, 225-0002\, 日本
CATEGORIES:POPUP
END:VEVENT
BEGIN:VEVENT
DTSTART;VALUE=DATE:20230920
DTEND;VALUE=DATE:20231004
DTSTAMP:20260422T050831
CREATED:20230919T063955Z
LAST-MODIFIED:20230919T064010Z
UID:10911-1695168000-1696377599@www.letratokyo.jp
SUMMARY:大丸　福岡天神店　東館３F
DESCRIPTION:
URL:https://www.letratokyo.jp/event/daimaru_fukuoka-2/
LOCATION:大丸　福岡天神店\, １丁目４−１\, 福岡市中央区天神\, 福岡県\, 810-8717\, 日本
CATEGORIES:POPUP
END:VEVENT
BEGIN:VEVENT
DTSTART;VALUE=DATE:20230926
DTEND;VALUE=DATE:20231004
DTSTAMP:20260422T050831
CREATED:20230925T070048Z
LAST-MODIFIED:20231002T042234Z
UID:10952-1695686400-1696377599@www.letratokyo.jp
SUMMARY:ノースポートモール２F
DESCRIPTION:
URL:https://www.letratokyo.jp/event/northport/
LOCATION:ノースポート・モール\, １丁目２５−１\, 中川中央\, 神奈川県横浜市都筑区\, 224-0003\, 日本
CATEGORIES:POPUP
END:VEVENT
BEGIN:VEVENT
DTSTART;VALUE=DATE:20231005
DTEND;VALUE=DATE:20231101
DTSTAMP:20260422T050831
CREATED:20231002T042407Z
LAST-MODIFIED:20231002T042422Z
UID:11059-1696464000-1698796799@www.letratokyo.jp
SUMMARY:吉祥寺パルコ　２F
DESCRIPTION:
URL:https://www.letratokyo.jp/event/kichijoji_p/
LOCATION:吉祥寺パルコ
CATEGORIES:POPUP
END:VEVENT
BEGIN:VEVENT
DTSTART;VALUE=DATE:20231011
DTEND;VALUE=DATE:20231018
DTSTAMP:20260422T050831
CREATED:20231002T042539Z
LAST-MODIFIED:20231016T015339Z
UID:11063-1696982400-1697587199@www.letratokyo.jp
SUMMARY:井筒屋　本店　本館3F
DESCRIPTION:
URL:https://www.letratokyo.jp/event/izutsuya-2/
LOCATION:井筒屋\, 1-1\, 北九州市小倉北区船場町\, 福岡県\, 802-8511\, 日本
CATEGORIES:POPUP
END:VEVENT
BEGIN:VEVENT
DTSTART;VALUE=DATE:20231108
DTEND;VALUE=DATE:20231115
DTSTAMP:20260422T050831
CREATED:20231102T070346Z
LAST-MODIFIED:20231102T070951Z
UID:11343-1699401600-1700006399@www.letratokyo.jp
SUMMARY:井筒屋 小倉店 新館１F
DESCRIPTION:秋冬の装いに合わせやすい色や形を追求したメルカドバッグや、その他ファーカバーなどのアクセサリー類も豊富にご紹介いたします。 \n落ち着いたカラーものを中心としながらも、秋冬コーデのアクセントとなるような配色のバッグもご用意しております。 \n豊富な商品を自分好みに組み合わせて、Letraとともに皆様の秋を楽しんで頂けますと幸いです。 \n 
URL:https://www.letratokyo.jp/event/izutsuya-3/
LOCATION:井筒屋\, 1-1\, 北九州市小倉北区船場町\, 福岡県\, 802-8511\, 日本
CATEGORIES:POPUP
END:VEVENT
BEGIN:VEVENT
DTSTART;VALUE=DATE:20231219
DTEND;VALUE=DATE:20231229
DTSTAMP:20260422T050831
CREATED:20231211T043224Z
LAST-MODIFIED:20231218T051649Z
UID:11706-1702944000-1703807999@www.letratokyo.jp
SUMMARY:名古屋ラシック　5F
DESCRIPTION:OUTLET & CLEARANCE  SALE \nMAX50%OFF
URL:https://www.letratokyo.jp/event/nagoya/
LOCATION:名古屋 ラシック\, 名古屋市中区栄３丁目６−１
CATEGORIES:POPUP
END:VEVENT
BEGIN:VEVENT
DTSTART;VALUE=DATE:20240103
DTEND;VALUE=DATE:20240111
DTSTAMP:20260422T050831
CREATED:20231211T043535Z
LAST-MODIFIED:20240104T085746Z
UID:11708-1704240000-1704931199@www.letratokyo.jp
SUMMARY:京都ポルタ
DESCRIPTION:OUTLET & CLEARANCE  SALE \nMAX50%OFF
URL:https://www.letratokyo.jp/event/kyoto/
LOCATION:京都ポルタ\, 京都府京都市下京区烏丸通塩小路下る東塩小路町９０２
CATEGORIES:POPUP
ATTACH;FMTTYPE=image/jpeg:https://www.letratokyo.jp/wp-content/uploads/2024/01/2023sale3_kyoto.jpg
END:VEVENT
BEGIN:VEVENT
DTSTART;VALUE=DATE:20240108
DTEND;VALUE=DATE:20240115
DTSTAMP:20260422T050831
CREATED:20231211T043718Z
LAST-MODIFIED:20240109T005605Z
UID:11711-1704672000-1705276799@www.letratokyo.jp
SUMMARY:マルイシティ横浜
DESCRIPTION:OUTLET & CLEARANCE  SALE \nMAX50%OFF \nアウトレット商品は50％OFF、セール商品は多くが40％OFFとなっています。 \n今年の関東でのアウトレット＆セールイベントは、今回が最後になりますのでお見逃しなく！ \n 
URL:https://www.letratokyo.jp/event/oioi_yokohama/
LOCATION:マルイシティ横浜\, ２丁目１９−１２\, 横浜市西区高島\, 神奈川県\, 220-0011\, 日本
CATEGORIES:POPUP
ATTACH;FMTTYPE=image/jpeg:https://www.letratokyo.jp/wp-content/uploads/2024/01/2023sale5_marui.jpg
END:VEVENT
BEGIN:VEVENT
DTSTART;VALUE=DATE:20240112
DTEND;VALUE=DATE:20240126
DTSTAMP:20260422T050831
CREATED:20231211T043802Z
LAST-MODIFIED:20240104T085627Z
UID:11714-1705017600-1706227199@www.letratokyo.jp
SUMMARY:ルクアイーレ
DESCRIPTION:OUTLET & CLEARANCE  SALE \nMAX50%OFF
URL:https://www.letratokyo.jp/event/osaka/
LOCATION:大阪ルクアイーレ\, 大阪市北区梅田3-1-3\, 大阪府\, 530-8558\, 日本
CATEGORIES:POPUP
ATTACH;FMTTYPE=image/jpeg:https://www.letratokyo.jp/wp-content/uploads/2024/01/2023sale4_osaka.jpg
END:VEVENT
BEGIN:VEVENT
DTSTART;VALUE=DATE:20240304
DTEND;VALUE=DATE:20240901
DTSTAMP:20260422T050831
CREATED:20240301T052737Z
LAST-MODIFIED:20240513T015712Z
UID:12560-1709510400-1725148799@www.letratokyo.jp
SUMMARY:吉祥寺パルコ ２F
DESCRIPTION:3月4日（月）～8月31日（土）
URL:https://www.letratokyo.jp/event/k_paruco/
LOCATION:吉祥寺パルコ
CATEGORIES:POPUP
END:VEVENT
BEGIN:VEVENT
DTSTART;VALUE=DATE:20240306
DTEND;VALUE=DATE:20240313
DTSTAMP:20260422T050831
CREATED:20240301T052318Z
LAST-MODIFIED:20240301T091000Z
UID:12557-1709683200-1710287999@www.letratokyo.jp
SUMMARY:大丸神戸店 1F
DESCRIPTION:3月6日㈬～3月12日㈫
URL:https://www.letratokyo.jp/event/k_daimaru/
LOCATION:大丸神戸店\, 兵庫県神戸市中央区明石町４０\, 650-0037\, 日本
CATEGORIES:POPUP
END:VEVENT
BEGIN:VEVENT
DTSTART;VALUE=DATE:20240323
DTEND;VALUE=DATE:20240403
DTSTAMP:20260422T050831
CREATED:20240321T061933Z
LAST-MODIFIED:20240321T061933Z
UID:12781-1711152000-1712102399@www.letratokyo.jp
SUMMARY:高槻阪急スクエア　2F
DESCRIPTION:
URL:https://www.letratokyo.jp/event/takatsuki/
LOCATION:高槻阪急スクエア\, 大阪府高槻市白梅町４−１\, 569-1196\, 日本
CATEGORIES:POPUP
END:VEVENT
BEGIN:VEVENT
DTSTART;VALUE=DATE:20240327
DTEND;VALUE=DATE:20240402
DTSTAMP:20260422T050831
CREATED:20240321T062743Z
LAST-MODIFIED:20240321T062758Z
UID:12787-1711497600-1712015999@www.letratokyo.jp
SUMMARY:名古屋松坂屋 オルガン広場１F
DESCRIPTION:
URL:https://www.letratokyo.jp/event/nagoyamatsuzakaya/
LOCATION:松坂屋名古屋店\, 名古屋市中区栄三丁目16番1号
CATEGORIES:POPUP
END:VEVENT
BEGIN:VEVENT
DTSTART;VALUE=DATE:20240328
DTEND;VALUE=DATE:20240417
DTSTAMP:20260422T050831
CREATED:20240321T063122Z
LAST-MODIFIED:20240412T104615Z
UID:12790-1711584000-1713311999@www.letratokyo.jp
SUMMARY:大分トキハ百貨店　2F
DESCRIPTION:
URL:https://www.letratokyo.jp/event/oita_tokiwa/
LOCATION:大分トキハ百貨店\, 大分県大分市府内町２丁目１−４\, 870-8688\, 日本
CATEGORIES:POPUP
END:VEVENT
BEGIN:VEVENT
DTSTART;VALUE=DATE:20240405
DTEND;VALUE=DATE:20240417
DTSTAMP:20260422T050831
CREATED:20231211T042754Z
LAST-MODIFIED:20240402T050450Z
UID:11699-1712275200-1713311999@www.letratokyo.jp
SUMMARY:横浜ジョイナス　B1F
DESCRIPTION:
URL:https://www.letratokyo.jp/event/yokohama/
LOCATION:JOINUS 横浜
CATEGORIES:POPUP
END:VEVENT
END:VCALENDAR