BEGIN:VCALENDAR
VERSION:2.0
PRODID:-//Letra｜レトラ公式通販 - ECPv6.0.9//NONSGML v1.0//EN
CALSCALE:GREGORIAN
METHOD:PUBLISH
X-WR-CALNAME:Letra｜レトラ公式通販
X-ORIGINAL-URL:https://www.letratokyo.jp
X-WR-CALDESC:Letra｜レトラ公式通販 のイベント
REFRESH-INTERVAL;VALUE=DURATION:PT1H
X-Robots-Tag:noindex
X-PUBLISHED-TTL:PT1H
BEGIN:VTIMEZONE
TZID:Asia/Tokyo
BEGIN:STANDARD
TZOFFSETFROM:+0900
TZOFFSETTO:+0900
TZNAME:JST
DTSTART:20230101T000000
END:STANDARD
END:VTIMEZONE
BEGIN:VEVENT
DTSTART;VALUE=DATE:20230524
DTEND;VALUE=DATE:20230607
DTSTAMP:20260422T045417
CREATED:20230519T010029Z
LAST-MODIFIED:20230421T011556Z
UID:7870-1684886400-1686095999@www.letratokyo.jp
SUMMARY:西武百貨店 池袋本店  ４F
DESCRIPTION:
URL:https://www.letratokyo.jp/event/seibu_ikebukuro/
LOCATION:西武百貨店 池袋本店\, １丁目２８−１\, 豊島区南池袋\, 東京都\, 171-8569\, 日本
CATEGORIES:POPUP
END:VEVENT
BEGIN:VEVENT
DTSTART;VALUE=DATE:20230524
DTEND;VALUE=DATE:20230531
DTSTAMP:20260422T045417
CREATED:20230519T005810Z
LAST-MODIFIED:20230518T100337Z
UID:8044-1684886400-1685491199@www.letratokyo.jp
SUMMARY:神戸阪急
DESCRIPTION:
URL:https://www.letratokyo.jp/event/koube_hankyu/
LOCATION:阪急百貨店神戸店
CATEGORIES:POPUP
END:VEVENT
BEGIN:VEVENT
DTSTART;VALUE=DATE:20230524
DTEND;VALUE=DATE:20230531
DTSTAMP:20260422T045417
CREATED:20230519T005433Z
LAST-MODIFIED:20230518T100349Z
UID:8041-1684886400-1685491199@www.letratokyo.jp
SUMMARY:岩田屋 久留米店
DESCRIPTION:
URL:https://www.letratokyo.jp/event/iwataya_kurume/
LOCATION:岩田屋 久留米店\, １−１\, 久留米市天神町\, 福岡県\, 830-0033\, 日本
CATEGORIES:POPUP
END:VEVENT
BEGIN:VEVENT
DTSTART;VALUE=DATE:20230510
DTEND;VALUE=DATE:20230524
DTSTAMP:20260422T045417
CREATED:20230505T010048Z
LAST-MODIFIED:20230421T010751Z
UID:7862-1683676800-1684886399@www.letratokyo.jp
SUMMARY:大阪ルクアイーレ ２F
DESCRIPTION:
URL:https://www.letratokyo.jp/event/osaka_lucua1100/
LOCATION:大阪ルクアイーレ\, 大阪市北区梅田3-1-3\, 大阪府\, 530-8558\, 日本
CATEGORIES:POPUP
END:VEVENT
BEGIN:VEVENT
DTSTART;VALUE=DATE:20230510
DTEND;VALUE=DATE:20230524
DTSTAMP:20260422T045417
CREATED:20230505T010002Z
LAST-MODIFIED:20230518T100402Z
UID:7866-1683676800-1684886399@www.letratokyo.jp
SUMMARY:伊勢 立川店 2F
DESCRIPTION:
URL:https://www.letratokyo.jp/event/isetan_tachikawa/
LOCATION:伊勢 立川店\, 2-5-1\, 立川市曙町\, 東京都\, 190-0012\, 日本
CATEGORIES:POPUP
END:VEVENT
BEGIN:VEVENT
DTSTART;VALUE=DATE:20230426
DTEND;VALUE=DATE:20230510
DTSTAMP:20260422T045417
CREATED:20230421T010046Z
LAST-MODIFIED:20230421T011829Z
UID:7764-1682467200-1683676799@www.letratokyo.jp
SUMMARY:大丸東京店
DESCRIPTION:
URL:https://www.letratokyo.jp/event/daimarutokyo/
LOCATION:大丸東京\, 千代田区丸の内\, １丁目９−１\, 東京都\, 100-6701\, 日本
CATEGORIES:POPUP
END:VEVENT
BEGIN:VEVENT
DTSTART;VALUE=DATE:20230419
DTEND;VALUE=DATE:20230503
DTSTAMP:20260422T045417
CREATED:20230414T035656Z
LAST-MODIFIED:20230414T035715Z
UID:7762-1681862400-1683071999@www.letratokyo.jp
SUMMARY:大丸京都店
DESCRIPTION:
URL:https://www.letratokyo.jp/event/daimarukyoto/
LOCATION:京都大丸\, 京都市下京区四条通 高倉西入立売西町79番地\, 600-8511
CATEGORIES:POPUP
END:VEVENT
BEGIN:VEVENT
DTSTART;VALUE=DATE:20230414
DTEND;VALUE=DATE:20230515
DTSTAMP:20260422T045417
CREATED:20230411T075941Z
LAST-MODIFIED:20230411T081838Z
UID:7690-1681430400-1684108799@www.letratokyo.jp
SUMMARY:ラシック名古屋　6F
DESCRIPTION:毎年開催している名古屋でのイベント、今回は6階での開催です。\n一ヶ月間ある会期中に新作もどんどん投入いたします。\nいつお越し頂いても楽しめるお店をご用意して、お客様をお待ちしております。
URL:https://www.letratokyo.jp/event/lachic_nagoya/
LOCATION:名古屋 ラシック\, 名古屋市中区栄３丁目６−１
CATEGORIES:POPUP
END:VEVENT
BEGIN:VEVENT
DTSTART;VALUE=DATE:20230405
DTEND;VALUE=DATE:20230417
DTSTAMP:20260422T045417
CREATED:20230402T025840Z
LAST-MODIFIED:20230402T031717Z
UID:7581-1680652800-1681689599@www.letratokyo.jp
SUMMARY:ルミネエスト新宿店
DESCRIPTION:ルミネエスト新宿店は地下1階の改札口横のスペース。\nここでも新作のメルカドバッグや人気のバッグそれにメキシコ雑貨が並びます。
URL:https://www.letratokyo.jp/event/lumine_est/
LOCATION:ルミネエスト新宿\, ３丁目３８−１\, 新宿区新宿\, 東京都\, 160-0022\, 日本
CATEGORIES:POPUP
END:VEVENT
BEGIN:VEVENT
DTSTART;VALUE=DATE:20230405
DTEND;VALUE=DATE:20230419
DTSTAMP:20260422T045417
CREATED:20230402T031334Z
LAST-MODIFIED:20230410T020655Z
UID:7597-1680652800-1681862399@www.letratokyo.jp
SUMMARY:阪神梅田本店7階
DESCRIPTION:
URL:https://www.letratokyo.jp/event/hankyuumeda/
LOCATION:阪神梅田本店\, ８−７\, 大阪市北区角田町\, 大阪府\, 530-8350\, 日本
CATEGORIES:POPUP
END:VEVENT
BEGIN:VEVENT
DTSTART;VALUE=DATE:20230405
DTEND;VALUE=DATE:20230412
DTSTAMP:20260422T045417
CREATED:20230402T030425Z
LAST-MODIFIED:20230402T031727Z
UID:7590-1680652800-1681257599@www.letratokyo.jp
SUMMARY:遠鉄百貨店 本館２F
DESCRIPTION:浜松市の駅前の遠鉄百貨店でこの度初めてLetaraのポップアップショップ
URL:https://www.letratokyo.jp/event/entetsu/
LOCATION:遠鉄百貨店\, 320-2\, 静岡県浜松市中区砂山町\, 静岡県\, 430-8588\, 日本
CATEGORIES:POPUP
END:VEVENT
BEGIN:VEVENT
DTSTART;VALUE=DATE:20230329
DTEND;VALUE=DATE:20230405
DTSTAMP:20260422T045417
CREATED:20230323T012728Z
LAST-MODIFIED:20230404T013424Z
UID:7489-1680048000-1680652799@www.letratokyo.jp
SUMMARY:松坂屋名古屋店　１F　オルガン広場
DESCRIPTION:  \n\n\n\n\n今年名古屋での最初のPOP UP SHOPを開催致します。\n3月29日（水）～4月4（火）まで松坂屋名古屋店　１F　オルガン広場にて期間限定ショップとなります。\nLetraでのお買い物をお楽しみください。\n \n\n\n\n\n\n\n\n\n\n 
URL:https://www.letratokyo.jp/event/m_nagoya_orugan/
LOCATION:松坂屋名古屋店\, 名古屋市中区栄三丁目16番1号
CATEGORIES:POPUP
END:VEVENT
BEGIN:VEVENT
DTSTART;VALUE=DATE:20230308
DTEND;VALUE=DATE:20230315
DTSTAMP:20260422T045417
CREATED:20230228T030138Z
LAST-MODIFIED:20230309T015050Z
UID:7300-1678233600-1678838399@www.letratokyo.jp
SUMMARY:神戸大丸１F　イベントスペース
DESCRIPTION:3月8日㈬～3月14日㈫までPOP UP SHOPを開催致します。\n関西のイベントでは今季最も早いイベントとなります。\nLetraでのお買い物をお楽しみください。
URL:https://www.letratokyo.jp/event/kobedaimaru2023/
LOCATION:大丸神戸店\, 兵庫県神戸市中央区明石町４０\, 650-0037\, 日本
CATEGORIES:POPUP
END:VEVENT
END:VCALENDAR