BEGIN:VCALENDAR
VERSION:2.0
PRODID:-//Letra｜レトラ公式通販 - ECPv6.0.9//NONSGML v1.0//EN
CALSCALE:GREGORIAN
METHOD:PUBLISH
X-ORIGINAL-URL:https://www.letratokyo.jp
X-WR-CALDESC:Letra｜レトラ公式通販 のイベント
REFRESH-INTERVAL;VALUE=DURATION:PT1H
X-Robots-Tag:noindex
X-PUBLISHED-TTL:PT1H
BEGIN:VTIMEZONE
TZID:Asia/Tokyo
BEGIN:STANDARD
TZOFFSETFROM:+0900
TZOFFSETTO:+0900
TZNAME:JST
DTSTART:20230101T000000
END:STANDARD
END:VTIMEZONE
BEGIN:VEVENT
DTSTART;VALUE=DATE:20230308
DTEND;VALUE=DATE:20230628
DTSTAMP:20260422T015638
CREATED:20230302T060027Z
LAST-MODIFIED:20230302T064614Z
UID:7297-1678233600-1687910399@www.letratokyo.jp
SUMMARY:NEWoMan横浜 ３F
DESCRIPTION:今年最初のPOP UP SHOPを開催致します。\n3月8日㈬～6月末頃まで4カ月のNEWoMan横浜 ３Fにて期間限定ショップとなります。\nLetraでのお買い物をお楽しみください。\n \n※現在6月末までの開催を予定しておりますが、変更になる場合もございます。\n\n\n\n\n\n\n\n\n\n 
URL:https://www.letratokyo.jp/event/newomanyoko2023/
LOCATION:NEWoMan横浜\, 神奈川県横浜市西区南幸１丁目１−１\, NEWoMan Yokohama
CATEGORIES:POPUP
END:VEVENT
BEGIN:VEVENT
DTSTART;VALUE=DATE:20230404
DTEND;VALUE=DATE:20230701
DTSTAMP:20260422T015638
CREATED:20230402T030722Z
LAST-MODIFIED:20230410T020314Z
UID:7594-1680566400-1688169599@www.letratokyo.jp
SUMMARY:松山三越1階アトリウム
DESCRIPTION:
URL:https://www.letratokyo.jp/event/matsuyama_mitsukoshi/
LOCATION:松山三越\, ３丁目１−１\, 松山市一番町\, 愛媛県\, 790-8532\, 日本
CATEGORIES:POPUP
END:VEVENT
BEGIN:VEVENT
DTSTART;VALUE=DATE:20230405
DTEND;VALUE=DATE:20230701
DTSTAMP:20260422T015638
CREATED:20230402T031621Z
LAST-MODIFIED:20230402T032027Z
UID:7601-1680652800-1688169599@www.letratokyo.jp
SUMMARY:三越徳島　東館2階
DESCRIPTION:開始は4月5日(水)13:00～となります。
URL:https://www.letratokyo.jp/event/mitsukoshitokushima/
LOCATION:三越徳島\, １丁目５ アミコ東館 2階\, 徳島市寺島本町西\, 徳島県\, 770-0834\, 日本
CATEGORIES:POPUP
END:VEVENT
BEGIN:VEVENT
DTSTART;VALUE=DATE:20230606
DTEND;VALUE=DATE:20230627
DTSTAMP:20260422T015638
CREATED:20230605T004825Z
LAST-MODIFIED:20230605T004834Z
UID:8282-1686009600-1687823999@www.letratokyo.jp
SUMMARY:そごう広島店 １F
DESCRIPTION:
URL:https://www.letratokyo.jp/event/sogo_hiroshima/
LOCATION:そごう広島店\, 6-27\, 広島市中区基町\, 広島県\, 730-8501\, 日本
CATEGORIES:POPUP
END:VEVENT
BEGIN:VEVENT
DTSTART;VALUE=DATE:20230607
DTEND;VALUE=DATE:20230621
DTSTAMP:20260422T015638
CREATED:20230602T010022Z
LAST-MODIFIED:20230518T100320Z
UID:8070-1686096000-1687305599@www.letratokyo.jp
SUMMARY:新潟伊勢丹　３F
DESCRIPTION:
URL:https://www.letratokyo.jp/event/niigata_isetan/
LOCATION:新潟伊勢丹\, １丁目６−１\, 新潟市中央区八千代\, 新潟県\, 950-0909
CATEGORIES:POPUP
END:VEVENT
BEGIN:VEVENT
DTSTART;VALUE=DATE:20230607
DTEND;VALUE=DATE:20230621
DTSTAMP:20260422T015638
CREATED:20230605T004539Z
LAST-MODIFIED:20230605T004539Z
UID:8274-1686096000-1687305599@www.letratokyo.jp
SUMMARY:東京大丸 3F
DESCRIPTION:
URL:https://www.letratokyo.jp/event/tokyo_daimaru/
LOCATION:東京大丸\, 1-9-1\, 千代田区丸の内\, 東京都\, 100-6701\, 日本
CATEGORIES:POPUP
END:VEVENT
BEGIN:VEVENT
DTSTART;VALUE=DATE:20230607
DTEND;VALUE=DATE:20230701
DTSTAMP:20260422T015638
CREATED:20230605T004634Z
LAST-MODIFIED:20230605T004649Z
UID:8280-1686096000-1688169599@www.letratokyo.jp
SUMMARY:NEWoMan横浜店 3F NEWoMan Lab.
DESCRIPTION:
URL:https://www.letratokyo.jp/event/newoman_yokohama/
LOCATION:NEWoMan横浜\, 神奈川県横浜市西区南幸１丁目１−１\, NEWoMan Yokohama
CATEGORIES:POPUP
END:VEVENT
BEGIN:VEVENT
DTSTART;VALUE=DATE:20230614
DTEND;VALUE=DATE:20230621
DTSTAMP:20260422T015638
CREATED:20230609T110010Z
LAST-MODIFIED:20230612T055805Z
UID:8365-1686700800-1687305599@www.letratokyo.jp
SUMMARY:松坂屋名古屋店
DESCRIPTION:
URL:https://www.letratokyo.jp/event/matsuzakaya_sendai/
LOCATION:松坂屋名古屋店\, 名古屋市中区栄三丁目16番1号
CATEGORIES:POPUP
END:VEVENT
END:VCALENDAR