BEGIN:VCALENDAR
VERSION:2.0
PRODID:-//Letra｜レトラ公式通販 - ECPv6.0.9//NONSGML v1.0//EN
CALSCALE:GREGORIAN
METHOD:PUBLISH
X-WR-CALNAME:Letra｜レトラ公式通販
X-ORIGINAL-URL:https://www.letratokyo.jp
X-WR-CALDESC:Letra｜レトラ公式通販 のイベント
REFRESH-INTERVAL;VALUE=DURATION:PT1H
X-Robots-Tag:noindex
X-PUBLISHED-TTL:PT1H
BEGIN:VTIMEZONE
TZID:Asia/Tokyo
BEGIN:STANDARD
TZOFFSETFROM:+0900
TZOFFSETTO:+0900
TZNAME:JST
DTSTART:20230101T000000
END:STANDARD
END:VTIMEZONE
BEGIN:VEVENT
DTSTART;VALUE=DATE:20230619
DTEND;VALUE=DATE:20230710
DTSTAMP:20260422T032029
CREATED:20230612T060009Z
LAST-MODIFIED:20230616T093857Z
UID:8434-1687132800-1688947199@www.letratokyo.jp
SUMMARY:ルミネ 立川店　２F
DESCRIPTION:
URL:https://www.letratokyo.jp/event/lumine_tachikawa/
LOCATION:ルミネ立川\, 2-1-1\, 立川市曙町\, 東京都\, 190-0012\, 日本
CATEGORIES:POPUP
END:VEVENT
BEGIN:VEVENT
DTSTART;VALUE=DATE:20230620
DTEND;VALUE=DATE:20230726
DTSTAMP:20260422T032029
CREATED:20230616T093657Z
LAST-MODIFIED:20230616T093850Z
UID:8552-1687219200-1690329599@www.letratokyo.jp
SUMMARY:AKOMEYA TOKYO in la kagū
DESCRIPTION:
URL:https://www.letratokyo.jp/event/akomeya-tokyo-in-la-kagu/
LOCATION:AKOMEYA TOKYO in la kagū\, ６７番地\, 新宿区矢来町\, 東京都\, 162-0805\, 日本
CATEGORIES:POPUP
END:VEVENT
BEGIN:VEVENT
DTSTART;VALUE=DATE:20230621
DTEND;VALUE=DATE:20230719
DTSTAMP:20260422T032029
CREATED:20230616T094118Z
LAST-MODIFIED:20230616T094134Z
UID:8563-1687305600-1689724799@www.letratokyo.jp
SUMMARY:イセタン羽田ストア
DESCRIPTION:
URL:https://www.letratokyo.jp/event/isetan_haneda/
LOCATION:イセタン羽田ストア\, ３丁目３−２ 羽田空港\, 大田区羽田空港\, 東京都\, 144-0041\, 日本
CATEGORIES:POPUP
END:VEVENT
BEGIN:VEVENT
DTSTART;VALUE=DATE:20230621
DTEND;VALUE=DATE:20230705
DTSTAMP:20260422T032029
CREATED:20230616T094254Z
LAST-MODIFIED:20230616T094254Z
UID:8566-1687305600-1688515199@www.letratokyo.jp
SUMMARY:札幌三越 １F
DESCRIPTION:
URL:https://www.letratokyo.jp/event/%e6%9c%ad%e5%b9%8c%e4%b8%89%e8%b6%8a-%ef%bc%91f/
LOCATION:札幌三越　1F\, ３丁目８\, 札幌市中央区南１条西\, 北海道\, 060-0061\, 日本
CATEGORIES:POPUP
END:VEVENT
BEGIN:VEVENT
DTSTART;VALUE=DATE:20230628
DTEND;VALUE=DATE:20230705
DTSTAMP:20260422T032029
CREATED:20230626T064949Z
LAST-MODIFIED:20230718T070859Z
UID:8592-1687910400-1688515199@www.letratokyo.jp
SUMMARY:川徳百貨店 1F
DESCRIPTION:昨年のイベントよりも品数や種類が豊富です。 \nメルカドバッグを既にお持ちの方も、初めて購入される方も \n皆さんに楽しんでいただけるサインナップをご用意しております！
URL:https://www.letratokyo.jp/event/kawatoku/
LOCATION:川徳百貨店\, 1-10-1\, 盛岡市菜園\, 岩手県\, 020-8655\, 日本
CATEGORIES:POPUP
END:VEVENT
BEGIN:VEVENT
DTSTART;VALUE=DATE:20230629
DTEND;VALUE=DATE:20230713
DTSTAMP:20260422T032029
CREATED:20230626T065212Z
LAST-MODIFIED:20230626T065232Z
UID:8596-1687996800-1689206399@www.letratokyo.jp
SUMMARY:東急百貨店　吉祥寺店　1F
DESCRIPTION:
URL:https://www.letratokyo.jp/event/tokyu_kichijoji/
LOCATION:東急百貨店　吉祥寺店
CATEGORIES:POPUP
END:VEVENT
END:VCALENDAR