BEGIN:VCALENDAR
VERSION:2.0
PRODID:-//Letra｜レトラ公式通販 - ECPv6.0.9//NONSGML v1.0//EN
CALSCALE:GREGORIAN
METHOD:PUBLISH
X-WR-CALNAME:Letra｜レトラ公式通販
X-ORIGINAL-URL:https://www.letratokyo.jp
X-WR-CALDESC:Letra｜レトラ公式通販 のイベント
REFRESH-INTERVAL;VALUE=DURATION:PT1H
X-Robots-Tag:noindex
X-PUBLISHED-TTL:PT1H
BEGIN:VTIMEZONE
TZID:Asia/Tokyo
BEGIN:STANDARD
TZOFFSETFROM:+0900
TZOFFSETTO:+0900
TZNAME:JST
DTSTART:20230101T000000
END:STANDARD
END:VTIMEZONE
BEGIN:VEVENT
DTSTART;VALUE=DATE:20231108
DTEND;VALUE=DATE:20231115
DTSTAMP:20260422T091648
CREATED:20231102T070346Z
LAST-MODIFIED:20231102T070951Z
UID:11343-1699401600-1700006399@www.letratokyo.jp
SUMMARY:井筒屋 小倉店 新館１F
DESCRIPTION:秋冬の装いに合わせやすい色や形を追求したメルカドバッグや、その他ファーカバーなどのアクセサリー類も豊富にご紹介いたします。 \n落ち着いたカラーものを中心としながらも、秋冬コーデのアクセントとなるような配色のバッグもご用意しております。 \n豊富な商品を自分好みに組み合わせて、Letraとともに皆様の秋を楽しんで頂けますと幸いです。 \n 
URL:https://www.letratokyo.jp/event/izutsuya-3/
LOCATION:井筒屋\, 1-1\, 北九州市小倉北区船場町\, 福岡県\, 802-8511\, 日本
CATEGORIES:POPUP
END:VEVENT
END:VCALENDAR