BEGIN:VCALENDAR
VERSION:2.0
PRODID:-//Letra｜レトラ公式通販 - ECPv6.0.9//NONSGML v1.0//EN
CALSCALE:GREGORIAN
METHOD:PUBLISH
X-ORIGINAL-URL:https://www.letratokyo.jp
X-WR-CALDESC:Letra｜レトラ公式通販 のイベント
REFRESH-INTERVAL;VALUE=DURATION:PT1H
X-Robots-Tag:noindex
X-PUBLISHED-TTL:PT1H
BEGIN:VTIMEZONE
TZID:Asia/Tokyo
BEGIN:STANDARD
TZOFFSETFROM:+0900
TZOFFSETTO:+0900
TZNAME:JST
DTSTART:20230101T000000
END:STANDARD
END:VTIMEZONE
BEGIN:VEVENT
DTSTART;VALUE=DATE:20231219
DTEND;VALUE=DATE:20231229
DTSTAMP:20260422T105203
CREATED:20231211T043224Z
LAST-MODIFIED:20231218T051649Z
UID:11706-1702944000-1703807999@www.letratokyo.jp
SUMMARY:名古屋ラシック　5F
DESCRIPTION:OUTLET & CLEARANCE  SALE \nMAX50%OFF
URL:https://www.letratokyo.jp/event/nagoya/
LOCATION:名古屋 ラシック\, 名古屋市中区栄３丁目６−１
CATEGORIES:POPUP
END:VEVENT
END:VCALENDAR