BEGIN:VCALENDAR
VERSION:2.0
PRODID:-//Letra｜レトラ公式通販 - ECPv6.0.9//NONSGML v1.0//EN
CALSCALE:GREGORIAN
METHOD:PUBLISH
X-WR-CALNAME:Letra｜レトラ公式通販
X-ORIGINAL-URL:https://www.letratokyo.jp
X-WR-CALDESC:Letra｜レトラ公式通販 のイベント
REFRESH-INTERVAL;VALUE=DURATION:PT1H
X-Robots-Tag:noindex
X-PUBLISHED-TTL:PT1H
BEGIN:VTIMEZONE
TZID:Asia/Tokyo
BEGIN:STANDARD
TZOFFSETFROM:+0900
TZOFFSETTO:+0900
TZNAME:JST
DTSTART:20240101T000000
END:STANDARD
END:VTIMEZONE
BEGIN:VEVENT
DTSTART;VALUE=DATE:20240103
DTEND;VALUE=DATE:20240111
DTSTAMP:20260422T121545
CREATED:20231211T043535Z
LAST-MODIFIED:20240104T085746Z
UID:11708-1704240000-1704931199@www.letratokyo.jp
SUMMARY:京都ポルタ
DESCRIPTION:OUTLET & CLEARANCE  SALE \nMAX50%OFF
URL:https://www.letratokyo.jp/event/kyoto/
LOCATION:京都ポルタ\, 京都府京都市下京区烏丸通塩小路下る東塩小路町９０２
CATEGORIES:POPUP
ATTACH;FMTTYPE=image/jpeg:https://www.letratokyo.jp/wp-content/uploads/2024/01/2023sale3_kyoto.jpg
END:VEVENT
END:VCALENDAR