BEGIN:VCALENDAR
VERSION:2.0
PRODID:-//Letra｜レトラ公式通販 - ECPv6.0.9//NONSGML v1.0//EN
CALSCALE:GREGORIAN
METHOD:PUBLISH
X-ORIGINAL-URL:https://www.letratokyo.jp
X-WR-CALDESC:Letra｜レトラ公式通販 のイベント
REFRESH-INTERVAL;VALUE=DURATION:PT1H
X-Robots-Tag:noindex
X-PUBLISHED-TTL:PT1H
BEGIN:VTIMEZONE
TZID:Asia/Tokyo
BEGIN:STANDARD
TZOFFSETFROM:+0900
TZOFFSETTO:+0900
TZNAME:JST
DTSTART:20240101T000000
END:STANDARD
END:VTIMEZONE
BEGIN:VEVENT
DTSTART;VALUE=DATE:20240304
DTEND;VALUE=DATE:20240901
DTSTAMP:20260422T163126
CREATED:20240301T052737Z
LAST-MODIFIED:20240513T015712Z
UID:12560-1709510400-1725148799@www.letratokyo.jp
SUMMARY:吉祥寺パルコ ２F
DESCRIPTION:3月4日（月）～8月31日（土）
URL:https://www.letratokyo.jp/event/k_paruco/
LOCATION:吉祥寺パルコ
CATEGORIES:POPUP
END:VEVENT
BEGIN:VEVENT
DTSTART;VALUE=DATE:20240328
DTEND;VALUE=DATE:20240417
DTSTAMP:20260422T163126
CREATED:20240321T063122Z
LAST-MODIFIED:20240412T104615Z
UID:12790-1711584000-1713311999@www.letratokyo.jp
SUMMARY:大分トキハ百貨店　2F
DESCRIPTION:
URL:https://www.letratokyo.jp/event/oita_tokiwa/
LOCATION:大分トキハ百貨店\, 大分県大分市府内町２丁目１−４\, 870-8688\, 日本
CATEGORIES:POPUP
END:VEVENT
BEGIN:VEVENT
DTSTART;VALUE=DATE:20240405
DTEND;VALUE=DATE:20240417
DTSTAMP:20260422T163126
CREATED:20231211T042754Z
LAST-MODIFIED:20240402T050450Z
UID:11699-1712275200-1713311999@www.letratokyo.jp
SUMMARY:横浜ジョイナス　B1F
DESCRIPTION:
URL:https://www.letratokyo.jp/event/yokohama/
LOCATION:JOINUS 横浜
CATEGORIES:POPUP
END:VEVENT
BEGIN:VEVENT
DTSTART;VALUE=DATE:20240409
DTEND;VALUE=DATE:20240422
DTSTAMP:20260422T163126
CREATED:20240404T094100Z
LAST-MODIFIED:20240404T094100Z
UID:13041-1712620800-1713743999@www.letratokyo.jp
SUMMARY:グランツリー武蔵小杉
DESCRIPTION:
URL:https://www.letratokyo.jp/event/saiji2024_7_musako/
LOCATION:グランツリー武蔵小杉\, 神奈川県川崎市中原区新丸子東３丁目１１３５−１\, 044-411-7111\, 日本
CATEGORIES:POPUP
END:VEVENT
END:VCALENDAR