BEGIN:VCALENDAR
VERSION:2.0
PRODID:-//Letra｜レトラ公式通販 - ECPv6.0.9//NONSGML v1.0//EN
CALSCALE:GREGORIAN
METHOD:PUBLISH
X-WR-CALNAME:Letra｜レトラ公式通販
X-ORIGINAL-URL:https://www.letratokyo.jp
X-WR-CALDESC:Letra｜レトラ公式通販 のイベント
REFRESH-INTERVAL;VALUE=DURATION:PT1H
X-Robots-Tag:noindex
X-PUBLISHED-TTL:PT1H
BEGIN:VTIMEZONE
TZID:Asia/Tokyo
BEGIN:STANDARD
TZOFFSETFROM:+0900
TZOFFSETTO:+0900
TZNAME:JST
DTSTART:20240101T000000
END:STANDARD
END:VTIMEZONE
BEGIN:VEVENT
DTSTART;VALUE=DATE:20240304
DTEND;VALUE=DATE:20240901
DTSTAMP:20260422T162832
CREATED:20240301T052737Z
LAST-MODIFIED:20240513T015712Z
UID:12560-1709510400-1725148799@www.letratokyo.jp
SUMMARY:吉祥寺パルコ ２F
DESCRIPTION:3月4日（月）～8月31日（土）
URL:https://www.letratokyo.jp/event/k_paruco/
LOCATION:吉祥寺パルコ
CATEGORIES:POPUP
END:VEVENT
BEGIN:VEVENT
DTSTART;VALUE=DATE:20240416
DTEND;VALUE=DATE:20240516
DTSTAMP:20260422T162832
CREATED:20240415T044414Z
LAST-MODIFIED:20240415T044431Z
UID:13312-1713225600-1715817599@www.letratokyo.jp
SUMMARY:そごう広島
DESCRIPTION:
URL:https://www.letratokyo.jp/event/sogo_hiroshima-2/
LOCATION:そごう広島店\, 6-27\, 広島市中区基町\, 広島県\, 730-8501\, 日本
CATEGORIES:POPUP
END:VEVENT
BEGIN:VEVENT
DTSTART;VALUE=DATE:20240424
DTEND;VALUE=DATE:20240501
DTSTAMP:20260422T162832
CREATED:20240410T003242Z
LAST-MODIFIED:20240419T013825Z
UID:9202-1713916800-1714521599@www.letratokyo.jp
SUMMARY:伊勢丹 浦和店　２F
DESCRIPTION:
URL:https://www.letratokyo.jp/event/isetan_urawa/
LOCATION:伊勢丹浦和店\, 埼玉県さいたま市浦和区高砂１丁目１５−１
CATEGORIES:POPUP
END:VEVENT
BEGIN:VEVENT
DTSTART;VALUE=DATE:20240424
DTEND;VALUE=DATE:20240508
DTSTAMP:20260422T162832
CREATED:20240424T010033Z
LAST-MODIFIED:20240424T015510Z
UID:8741-1713916800-1715126399@www.letratokyo.jp
SUMMARY:東京大丸 3F
DESCRIPTION:
URL:https://www.letratokyo.jp/event/tokyodaimaru/
LOCATION:大丸東京\, 千代田区丸の内\, １丁目９−１\, 東京都\, 100-6701\, 日本
CATEGORIES:POPUP
END:VEVENT
END:VCALENDAR