BEGIN:VCALENDAR
VERSION:2.0
PRODID:-//Letra｜レトラ公式通販 - ECPv6.0.9//NONSGML v1.0//EN
CALSCALE:GREGORIAN
METHOD:PUBLISH
X-WR-CALNAME:Letra｜レトラ公式通販
X-ORIGINAL-URL:https://www.letratokyo.jp
X-WR-CALDESC:Letra｜レトラ公式通販 のイベント
REFRESH-INTERVAL;VALUE=DURATION:PT1H
X-Robots-Tag:noindex
X-PUBLISHED-TTL:PT1H
BEGIN:VTIMEZONE
TZID:Asia/Tokyo
BEGIN:STANDARD
TZOFFSETFROM:+0900
TZOFFSETTO:+0900
TZNAME:JST
DTSTART:20240101T000000
END:STANDARD
END:VTIMEZONE
BEGIN:VEVENT
DTSTART;VALUE=DATE:20240304
DTEND;VALUE=DATE:20240901
DTSTAMP:20260422T180440
CREATED:20240301T052737Z
LAST-MODIFIED:20240513T015712Z
UID:12560-1709510400-1725148799@www.letratokyo.jp
SUMMARY:吉祥寺パルコ ２F
DESCRIPTION:3月4日（月）～8月31日（土）
URL:https://www.letratokyo.jp/event/k_paruco/
LOCATION:吉祥寺パルコ
CATEGORIES:POPUP
END:VEVENT
BEGIN:VEVENT
DTSTART;VALUE=DATE:20240508
DTEND;VALUE=DATE:20240611
DTSTAMP:20260422T180440
CREATED:20240430T072052Z
LAST-MODIFIED:20240430T072131Z
UID:13787-1715126400-1718063999@www.letratokyo.jp
SUMMARY:NEWoMAN 横浜 7F
DESCRIPTION:
URL:https://www.letratokyo.jp/event/newoman-%e6%a8%aa%e6%b5%9c-7f/
LOCATION:NEWoMan横浜\, 神奈川県横浜市西区南幸１丁目１−１\, NEWoMan Yokohama
END:VEVENT
BEGIN:VEVENT
DTSTART;VALUE=DATE:20240529
DTEND;VALUE=DATE:20240612
DTSTAMP:20260422T180440
CREATED:20240514T014344Z
LAST-MODIFIED:20240514T014344Z
UID:13977-1716940800-1718150399@www.letratokyo.jp
SUMMARY:新宿タカシマヤ 2F
DESCRIPTION:
URL:https://www.letratokyo.jp/event/%e6%96%b0%e5%ae%bf%e3%82%bf%e3%82%ab%e3%82%b7%e3%83%9e%e3%83%a4-2f/
LOCATION:新宿高島屋
CATEGORIES:POPUP
END:VEVENT
BEGIN:VEVENT
DTSTART;VALUE=DATE:20240529
DTEND;VALUE=DATE:20240605
DTSTAMP:20260422T180440
CREATED:20240514T014511Z
LAST-MODIFIED:20240514T014511Z
UID:13980-1716940800-1717545599@www.letratokyo.jp
SUMMARY:神戸阪急 5F
DESCRIPTION:
URL:https://www.letratokyo.jp/event/%e7%a5%9e%e6%88%b8%e9%98%aa%e6%80%a5-5f/
LOCATION:阪急百貨店神戸店
END:VEVENT
END:VCALENDAR