BEGIN:VCALENDAR
VERSION:2.0
PRODID:-//Letra｜レトラ公式通販 - ECPv6.0.9//NONSGML v1.0//EN
CALSCALE:GREGORIAN
METHOD:PUBLISH
X-ORIGINAL-URL:https://www.letratokyo.jp
X-WR-CALDESC:Letra｜レトラ公式通販 のイベント
REFRESH-INTERVAL;VALUE=DURATION:PT1H
X-Robots-Tag:noindex
X-PUBLISHED-TTL:PT1H
BEGIN:VTIMEZONE
TZID:Asia/Tokyo
BEGIN:STANDARD
TZOFFSETFROM:+0900
TZOFFSETTO:+0900
TZNAME:JST
DTSTART:20240101T000000
END:STANDARD
END:VTIMEZONE
BEGIN:VEVENT
DTSTART;VALUE=DATE:20240304
DTEND;VALUE=DATE:20240901
DTSTAMP:20260422T195244
CREATED:20240301T052737Z
LAST-MODIFIED:20240513T015712Z
UID:12560-1709510400-1725148799@www.letratokyo.jp
SUMMARY:吉祥寺パルコ ２F
DESCRIPTION:3月4日（月）～8月31日（土）
URL:https://www.letratokyo.jp/event/k_paruco/
LOCATION:吉祥寺パルコ
CATEGORIES:POPUP
END:VEVENT
BEGIN:VEVENT
DTSTART;VALUE=DATE:20240508
DTEND;VALUE=DATE:20240611
DTSTAMP:20260422T195244
CREATED:20240430T072052Z
LAST-MODIFIED:20240430T072131Z
UID:13787-1715126400-1718063999@www.letratokyo.jp
SUMMARY:NEWoMAN 横浜 7F
DESCRIPTION:
URL:https://www.letratokyo.jp/event/newoman-%e6%a8%aa%e6%b5%9c-7f/
LOCATION:NEWoMan横浜\, 神奈川県横浜市西区南幸１丁目１−１\, NEWoMan Yokohama
END:VEVENT
BEGIN:VEVENT
DTSTART;VALUE=DATE:20240529
DTEND;VALUE=DATE:20240612
DTSTAMP:20260422T195244
CREATED:20240514T014344Z
LAST-MODIFIED:20240514T014344Z
UID:13977-1716940800-1718150399@www.letratokyo.jp
SUMMARY:新宿タカシマヤ 2F
DESCRIPTION:
URL:https://www.letratokyo.jp/event/%e6%96%b0%e5%ae%bf%e3%82%bf%e3%82%ab%e3%82%b7%e3%83%9e%e3%83%a4-2f/
LOCATION:新宿高島屋
CATEGORIES:POPUP
END:VEVENT
BEGIN:VEVENT
DTSTART;VALUE=DATE:20240603
DTEND;VALUE=DATE:20240801
DTSTAMP:20260422T195244
CREATED:20240604T045307Z
LAST-MODIFIED:20240604T045534Z
UID:14567-1717372800-1722470399@www.letratokyo.jp
SUMMARY:蔦屋書店幕張
DESCRIPTION:
URL:https://www.letratokyo.jp/event/%e8%94%a6%e5%b1%8b%e6%9b%b8%e5%ba%97%e5%b9%95%e5%bc%b5/
LOCATION:蔦屋書店幕張\, 千葉県千葉市美浜区豊砂１−１
CATEGORIES:POPUP
END:VEVENT
BEGIN:VEVENT
DTSTART;VALUE=DATE:20240604
DTEND;VALUE=DATE:20240617
DTSTAMP:20260422T195244
CREATED:20240604T045403Z
LAST-MODIFIED:20240604T045403Z
UID:14570-1717459200-1718582399@www.letratokyo.jp
SUMMARY:M1プラザ旭川店
DESCRIPTION:
URL:https://www.letratokyo.jp/event/m1%e3%83%97%e3%83%a9%e3%82%b6%e6%97%ad%e5%b7%9d%e5%ba%97/
CATEGORIES:POPUP
END:VEVENT
BEGIN:VEVENT
DTSTART;VALUE=DATE:20240605
DTEND;VALUE=DATE:20240619
DTSTAMP:20260422T195244
CREATED:20240604T045657Z
LAST-MODIFIED:20240604T045657Z
UID:14572-1717545600-1718755199@www.letratokyo.jp
SUMMARY:新潟伊勢丹 3F
DESCRIPTION:
URL:https://www.letratokyo.jp/event/%e6%96%b0%e6%bd%9f%e4%bc%8a%e5%8b%a2%e4%b8%b9-3f/
LOCATION:新潟伊勢丹 3F\, 新潟県新潟市中央区八千代１丁目６−１
CATEGORIES:POPUP
END:VEVENT
BEGIN:VEVENT
DTSTART;VALUE=DATE:20240605
DTEND;VALUE=DATE:20240619
DTSTAMP:20260422T195244
CREATED:20240604T045843Z
LAST-MODIFIED:20240604T045843Z
UID:14577-1717545600-1718755199@www.letratokyo.jp
SUMMARY:川西阪急 2F
DESCRIPTION:
URL:https://www.letratokyo.jp/event/%e5%b7%9d%e8%a5%bf%e9%98%aa%e6%80%a5-2f/
LOCATION:川西阪急\, ２６−１\, 川西市栄町\, 兵庫県\, 666-0033\, 日本
CATEGORIES:POPUP
END:VEVENT
BEGIN:VEVENT
DTSTART;VALUE=DATE:20240605
DTEND;VALUE=DATE:20240611
DTSTAMP:20260422T195244
CREATED:20240604T050024Z
LAST-MODIFIED:20240604T225241Z
UID:14579-1717545600-1718063999@www.letratokyo.jp
SUMMARY:宮城ララガーデン長町1F ヴィー藤崎内
DESCRIPTION:
URL:https://www.letratokyo.jp/event/%e5%ae%ae%e5%9f%8e%e3%83%a9%e3%83%a9%e3%82%ac%e3%83%bc%e3%83%87%e3%83%b3%e9%95%b7%e7%94%ba1f-%e3%83%b4%e3%82%a3%e3%83%bc%e8%97%a4%e5%b4%8e%e5%86%85/
LOCATION:宮城ララガーデン長町\, 宮城県仙台市太白区長町７丁目２０−５
CATEGORIES:POPUP
END:VEVENT
END:VCALENDAR